BEGIN:VCALENDAR
VERSION:2.0
PRODID:-//Shed Happens - ECPv5.2.1//NONSGML v1.0//EN
CALSCALE:GREGORIAN
METHOD:PUBLISH
X-WR-CALNAME:Shed Happens
X-ORIGINAL-URL:https://www.shedhappens.com.au
X-WR-CALDESC:Events for Shed Happens
BEGIN:VTIMEZONE
TZID:Australia/Melbourne
BEGIN:STANDARD
TZOFFSETFROM:+1100
TZOFFSETTO:+1000
TZNAME:AEST
DTSTART:20200404T160000
END:STANDARD
BEGIN:DAYLIGHT
TZOFFSETFROM:+1000
TZOFFSETTO:+1100
TZNAME:AEDT
DTSTART:20201003T160000
END:DAYLIGHT
END:VTIMEZONE
BEGIN:VEVENT
DTSTART;TZID=Australia/Melbourne:20201207T183000
DTEND;TZID=Australia/Melbourne:20201207T203000
DTSTAMP:20210228T113321
CREATED:20201029T130354Z
LAST-MODIFIED:20201115T022313Z
UID:680-1607365800-1607373000@www.shedhappens.com.au
SUMMARY:Logan Shed
DESCRIPTION:Logan shed is on hold \nMore information to come
URL:https://www.shedhappens.com.au/event/logan-shed-online-zoom/
CATEGORIES:Online
END:VEVENT
END:VCALENDAR